BEGIN:VCALENDAR
VERSION:2.0
PRODID:-//MVCS - ECPv6.15.20//NONSGML v1.0//EN
CALSCALE:GREGORIAN
METHOD:PUBLISH
X-ORIGINAL-URL:https://www.mvcs.at
X-WR-CALDESC:Veranstaltungen für MVCS
REFRESH-INTERVAL;VALUE=DURATION:PT1H
X-Robots-Tag:noindex
X-PUBLISHED-TTL:PT1H
BEGIN:VTIMEZONE
TZID:Europe/Vienna
BEGIN:DAYLIGHT
TZOFFSETFROM:+0100
TZOFFSETTO:+0200
TZNAME:CEST
DTSTART:20230326T010000
END:DAYLIGHT
BEGIN:STANDARD
TZOFFSETFROM:+0200
TZOFFSETTO:+0100
TZNAME:CET
DTSTART:20231029T010000
END:STANDARD
BEGIN:DAYLIGHT
TZOFFSETFROM:+0100
TZOFFSETTO:+0200
TZNAME:CEST
DTSTART:20240331T010000
END:DAYLIGHT
BEGIN:STANDARD
TZOFFSETFROM:+0200
TZOFFSETTO:+0100
TZNAME:CET
DTSTART:20241027T010000
END:STANDARD
BEGIN:DAYLIGHT
TZOFFSETFROM:+0100
TZOFFSETTO:+0200
TZNAME:CEST
DTSTART:20250330T010000
END:DAYLIGHT
BEGIN:STANDARD
TZOFFSETFROM:+0200
TZOFFSETTO:+0100
TZNAME:CET
DTSTART:20251026T010000
END:STANDARD
END:VTIMEZONE
BEGIN:VEVENT
DTSTART;TZID=Europe/Vienna:20240627T173000
DTEND;TZID=Europe/Vienna:20240627T220000
DTSTAMP:20260419T160402
CREATED:20240313T071939Z
LAST-MODIFIED:20240607T060916Z
UID:10000058-1719509400-1719525600@www.mvcs.at
SUMMARY:Clubabend in St. Koloman
DESCRIPTION:Dieses Mal findet der Clubabend in der Christlalm in St. Koloman statt\, da unser Stammgasthaus „Schorn“ auf Betriebsurlaub ist. \nUm gemeinsam anzureisen\, treffen wir uns am 27.06.2024 um 17.30 Uhr am Ortsparkplatz Bad Vigaun (bei Nah&Frisch). \n Anmeldungen bitte per E-Mail an: ta.scvmobfsctd-2cb8ea@vts-rerheuftfirhcs oder telefonisch unter +43-(0)676-4330171. \nGasthof Christlalm\nTrattberg 115\, 5423 St. Koloman\nTel: 0664 3833543
URL:https://www.mvcs.at/veranstaltung/clubabend-in-st-koloman/
LOCATION:Gasthof Christlalm St.Koloman\, Trattberg 115\, St.Koloman\, Salzburg\, 5423
CATEGORIES:Clubabende
ATTACH;FMTTYPE=image/jpeg:https://www.mvcs.at/wp-content/uploads/IMG_20220505_185302.jpg
END:VEVENT
END:VCALENDAR